BEGIN:VCALENDAR
VERSION:2.0
PRODID:-//Fairview Park Summerfest - ECPv6.15.20//NONSGML v1.0//EN
CALSCALE:GREGORIAN
METHOD:PUBLISH
X-WR-CALNAME:Fairview Park Summerfest
X-ORIGINAL-URL:https://www.fairviewsummerfest.com
X-WR-CALDESC:Events for Fairview Park Summerfest
REFRESH-INTERVAL;VALUE=DURATION:PT1H
X-Robots-Tag:noindex
X-PUBLISHED-TTL:PT1H
BEGIN:VTIMEZONE
TZID:UTC
BEGIN:STANDARD
TZOFFSETFROM:+0000
TZOFFSETTO:+0000
TZNAME:UTC
DTSTART:20250101T000000
END:STANDARD
END:VTIMEZONE
BEGIN:VEVENT
DTSTART;TZID=UTC:20260724T180000
DTEND;TZID=UTC:20260724T230000
DTSTAMP:20260423T110105
CREATED:20260417T161730Z
LAST-MODIFIED:20260417T161730Z
UID:1133-1784916000-1784934000@www.fairviewsummerfest.com
SUMMARY:Beer Tent – Friday
DESCRIPTION:
URL:https://www.fairviewsummerfest.com/event/beer-tent-friday/
CATEGORIES:Food & Drink
END:VEVENT
BEGIN:VEVENT
DTSTART;TZID=UTC:20260724T180000
DTEND;TZID=UTC:20260724T230000
DTSTAMP:20260423T110105
CREATED:20260417T161824Z
LAST-MODIFIED:20260417T171841Z
UID:1135-1784916000-1784934000@www.fairviewsummerfest.com
SUMMARY:Carnival Rides – Friday
DESCRIPTION:
URL:https://www.fairviewsummerfest.com/event/carnival-rides-friday/
CATEGORIES:Rides & Attractions
END:VEVENT
BEGIN:VEVENT
DTSTART;TZID=UTC:20260724T184500
DTEND;TZID=UTC:20260724T191500
DTSTAMP:20260423T110105
CREATED:20260417T161125Z
LAST-MODIFIED:20260417T161348Z
UID:1127-1784918700-1784920500@www.fairviewsummerfest.com
SUMMARY:Opening Ceremonies & Invocation
DESCRIPTION:
URL:https://www.fairviewsummerfest.com/event/opening-ceremonies-invocation/
CATEGORIES:Community & Ceremonies
END:VEVENT
BEGIN:VEVENT
DTSTART;TZID=UTC:20260724T193000
DTEND;TZID=UTC:20260724T203000
DTSTAMP:20260423T110105
CREATED:20260417T161502Z
LAST-MODIFIED:20260417T161502Z
UID:1129-1784921400-1784925000@www.fairviewsummerfest.com
SUMMARY:Life Flight Display
DESCRIPTION:Check out the Life Flight helicopter up close! A unique opportunity to see the aircraft and crew.
URL:https://www.fairviewsummerfest.com/event/life-flight-display/
CATEGORIES:Rides & Attractions
END:VEVENT
BEGIN:VEVENT
DTSTART;TZID=UTC:20260725T080000
DTEND;TZID=UTC:20260725T100000
DTSTAMP:20260423T110105
CREATED:20260417T161909Z
LAST-MODIFIED:20260417T162123Z
UID:1137-1784966400-1784973600@www.fairviewsummerfest.com
SUMMARY:Fairview Rotary 5K Run
DESCRIPTION:
URL:https://www.fairviewsummerfest.com/event/fairview-rotary-5k-run/
END:VEVENT
BEGIN:VEVENT
DTSTART;TZID=UTC:20260725T090000
DTEND;TZID=UTC:20260725T130000
DTSTAMP:20260423T110105
CREATED:20260417T162107Z
LAST-MODIFIED:20260417T162107Z
UID:1139-1784970000-1784984400@www.fairviewsummerfest.com
SUMMARY:Pancake Breakfast
DESCRIPTION:
URL:https://www.fairviewsummerfest.com/event/pancake-breakfast/
CATEGORIES:Food & Drink
END:VEVENT
BEGIN:VEVENT
DTSTART;TZID=UTC:20260725T090000
DTEND;TZID=UTC:20260725T160000
DTSTAMP:20260423T110105
CREATED:20260417T162653Z
LAST-MODIFIED:20260417T162714Z
UID:1143-1784970000-1784995200@www.fairviewsummerfest.com
SUMMARY:3-on-3 Basketball Tournament
DESCRIPTION:
URL:https://www.fairviewsummerfest.com/event/3-on-3-basketball-tournament/
CATEGORIES:Sports & Fitness
ATTACH;FMTTYPE=image/png:https://www.fairviewsummerfest.com/wp-content/uploads/2026/04/Summerfest-3v3.png
END:VEVENT
BEGIN:VEVENT
DTSTART;TZID=UTC:20260725T090000
DTEND;TZID=UTC:20260725T230000
DTSTAMP:20260423T110105
CREATED:20260417T162151Z
LAST-MODIFIED:20260417T162151Z
UID:1141-1784970000-1785020400@www.fairviewsummerfest.com
SUMMARY:Carnival Rides – Saturday
DESCRIPTION:
URL:https://www.fairviewsummerfest.com/event/carnival-rides-saturday/
CATEGORIES:Rides & Attractions
END:VEVENT
END:VCALENDAR