BEGIN:VCALENDAR
VERSION:2.0
PRODID:-//Fairview Park Summerfest - ECPv6.15.20//NONSGML v1.0//EN
CALSCALE:GREGORIAN
METHOD:PUBLISH
X-WR-CALNAME:Fairview Park Summerfest
X-ORIGINAL-URL:https://www.fairviewsummerfest.com
X-WR-CALDESC:Events for Fairview Park Summerfest
REFRESH-INTERVAL;VALUE=DURATION:PT1H
X-Robots-Tag:noindex
X-PUBLISHED-TTL:PT1H
BEGIN:VTIMEZONE
TZID:UTC
BEGIN:STANDARD
TZOFFSETFROM:+0000
TZOFFSETTO:+0000
TZNAME:UTC
DTSTART:20250101T000000
END:STANDARD
END:VTIMEZONE
BEGIN:VEVENT
DTSTART;TZID=UTC:20260724T180000
DTEND;TZID=UTC:20260724T230000
DTSTAMP:20260425T144303
CREATED:20260417T161730Z
LAST-MODIFIED:20260417T161730Z
UID:1133-1784916000-1784934000@www.fairviewsummerfest.com
SUMMARY:Beer Tent – Friday
DESCRIPTION:
URL:https://www.fairviewsummerfest.com/event/beer-tent-friday/
CATEGORIES:Food & Drink
END:VEVENT
BEGIN:VEVENT
DTSTART;TZID=UTC:20260725T090000
DTEND;TZID=UTC:20260725T130000
DTSTAMP:20260425T144303
CREATED:20260417T162107Z
LAST-MODIFIED:20260417T162107Z
UID:1139-1784970000-1784984400@www.fairviewsummerfest.com
SUMMARY:Pancake Breakfast
DESCRIPTION:
URL:https://www.fairviewsummerfest.com/event/pancake-breakfast/
CATEGORIES:Food & Drink
END:VEVENT
END:VCALENDAR